BEGIN:VCALENDAR
VERSION:2.0
PRODID:-//Virginia Medical Freedom Alliance - ECPv6.15.20//NONSGML v1.0//EN
CALSCALE:GREGORIAN
METHOD:PUBLISH
X-ORIGINAL-URL:https://vamfa.org
X-WR-CALDESC:Events for Virginia Medical Freedom Alliance
REFRESH-INTERVAL;VALUE=DURATION:PT1H
X-Robots-Tag:noindex
X-PUBLISHED-TTL:PT1H
BEGIN:VTIMEZONE
TZID:America/New_York
BEGIN:DAYLIGHT
TZOFFSETFROM:-0500
TZOFFSETTO:-0400
TZNAME:EDT
DTSTART:20250309T070000
END:DAYLIGHT
BEGIN:STANDARD
TZOFFSETFROM:-0400
TZOFFSETTO:-0500
TZNAME:EST
DTSTART:20251102T060000
END:STANDARD
BEGIN:DAYLIGHT
TZOFFSETFROM:-0500
TZOFFSETTO:-0400
TZNAME:EDT
DTSTART:20260308T070000
END:DAYLIGHT
BEGIN:STANDARD
TZOFFSETFROM:-0400
TZOFFSETTO:-0500
TZNAME:EST
DTSTART:20261101T060000
END:STANDARD
BEGIN:DAYLIGHT
TZOFFSETFROM:-0500
TZOFFSETTO:-0400
TZNAME:EDT
DTSTART:20270314T070000
END:DAYLIGHT
BEGIN:STANDARD
TZOFFSETFROM:-0400
TZOFFSETTO:-0500
TZNAME:EST
DTSTART:20271107T060000
END:STANDARD
END:VTIMEZONE
BEGIN:VEVENT
DTSTART;TZID=America/New_York:20260504T090000
DTEND;TZID=America/New_York:20260504T170000
DTSTAMP:20260426T002214
CREATED:20260422T132406Z
LAST-MODIFIED:20260422T134652Z
UID:10000415-1777885200-1777914000@vamfa.org
SUMMARY:MAHA Institute: Mental Health and Overmedicalization Summit
DESCRIPTION:Please join us for a one-day summit to address overmedicalization across the lifespan and advance ideas for near- and long-term reforms in mental health policy and practice. \n​​This event will bring together HHS leadership\, administrators\, clinicians\, researchers\, and grassroots reform advocates to create a collaborative\, unified network. The purpose of this day is to establish a shared understanding of the primary factors driving America’s mental health crisis and to identify clear\, winnable reform goals for the months ahead.
URL:https://vamfa.org/event/maha-institute-mental-health-and-overmedicalization-summit/
LOCATION:Washington\, DC
CATEGORIES:Conference
ATTACH;FMTTYPE=image/avif:https://vamfa.org/wp-content/uploads/2026/04/46fc2aac-ab91-4046-a893-643ce1c88db5.avif
END:VEVENT
BEGIN:VEVENT
DTSTART;VALUE=DATE:20260529
DTEND;VALUE=DATE:20260601
DTSTAMP:20260426T002214
CREATED:20260309T141709Z
LAST-MODIFIED:20260309T141758Z
UID:10000405-1780012800-1780271999@vamfa.org
SUMMARY:World Council for Health Creating New Health Systems\, A Better Way for the USA
DESCRIPTION:This national event brings together many internationally-renowned\, expert speakers from the worlds of health freedom such as medicine – both allopathic and natural – science\, law\, entrepreneurs\, policy experts and public officials.
URL:https://vamfa.org/event/world-council-for-health-creating-new-health-systems-a-better-way-for-the-usa/
LOCATION:Crowne Plaza\, Warwick\, Rhode Island
CATEGORIES:Conference
ATTACH;FMTTYPE=image/webp:https://vamfa.org/wp-content/uploads/2026/03/Asset-41@4x-1024x302-1.webp
END:VEVENT
END:VCALENDAR