BEGIN:VCALENDAR
VERSION:2.0
PRODID:-//Virginia Medical Freedom Alliance - ECPv6.15.20//NONSGML v1.0//EN
CALSCALE:GREGORIAN
METHOD:PUBLISH
X-WR-CALNAME:Virginia Medical Freedom Alliance
X-ORIGINAL-URL:https://vamfa.org
X-WR-CALDESC:Events for Virginia Medical Freedom Alliance
REFRESH-INTERVAL;VALUE=DURATION:PT1H
X-Robots-Tag:noindex
X-PUBLISHED-TTL:PT1H
BEGIN:VTIMEZONE
TZID:America/New_York
BEGIN:DAYLIGHT
TZOFFSETFROM:-0500
TZOFFSETTO:-0400
TZNAME:EDT
DTSTART:20250309T070000
END:DAYLIGHT
BEGIN:STANDARD
TZOFFSETFROM:-0400
TZOFFSETTO:-0500
TZNAME:EST
DTSTART:20251102T060000
END:STANDARD
BEGIN:DAYLIGHT
TZOFFSETFROM:-0500
TZOFFSETTO:-0400
TZNAME:EDT
DTSTART:20260308T070000
END:DAYLIGHT
BEGIN:STANDARD
TZOFFSETFROM:-0400
TZOFFSETTO:-0500
TZNAME:EST
DTSTART:20261101T060000
END:STANDARD
BEGIN:DAYLIGHT
TZOFFSETFROM:-0500
TZOFFSETTO:-0400
TZNAME:EDT
DTSTART:20270314T070000
END:DAYLIGHT
BEGIN:STANDARD
TZOFFSETFROM:-0400
TZOFFSETTO:-0500
TZNAME:EST
DTSTART:20271107T060000
END:STANDARD
END:VTIMEZONE
BEGIN:VEVENT
DTSTART;VALUE=DATE:20260423
DTEND;VALUE=DATE:20260426
DTSTAMP:20260425T213102
CREATED:20260216T155853Z
LAST-MODIFIED:20260216T155853Z
UID:10000400-1776902400-1777161599@vamfa.org
SUMMARY:The National Health Federation Conference 2026
DESCRIPTION:Join health-freedom advocates\, researchers\, and leaders from around the world for three days of critical conversations shaping the future of health\, science\, and informed choice.
URL:https://vamfa.org/event/the-national-health-federation-conference-2026/
LOCATION:Dallas/Ft. Worth Area
ATTACH;FMTTYPE=image/webp:https://vamfa.org/wp-content/uploads/2026/02/National-Health-Federation-Conference-2026.webp
END:VEVENT
BEGIN:VEVENT
DTSTART;TZID=America/New_York:20260427T090000
DTEND;TZID=America/New_York:20260427T110000
DTSTAMP:20260425T213102
CREATED:20260414T125102Z
LAST-MODIFIED:20260414T125102Z
UID:10000414-1777280400-1777287600@vamfa.org
SUMMARY:The People Vs. Poison Rally
DESCRIPTION:Enough is enough. We do not consent to being poisoned any longer. While we’re fighting for our health\, our government is fighting for the corporations that are poisoning us. The deck is stacked against us – and it has been for too long. It’s time to send a clear message that we will not stand for this. \nOn April 27th\, the U.S. Supreme Court will hear Monsanto v. Durnell. The court verdict could set a sweeping precedent\, limiting the ability of future victims to hold chemical companies accountable in court.
URL:https://vamfa.org/event/the-people-vs-poison-rally/
LOCATION:Public sidewalks outside the U.S. Supreme Court\, Washington D.C.
CATEGORIES:Rally
ATTACH;FMTTYPE=image/webp:https://vamfa.org/wp-content/uploads/2026/04/The-people-Vs.-Poison-Rally-Poster.webp
END:VEVENT
BEGIN:VEVENT
DTSTART;TZID=America/New_York:20260504T090000
DTEND;TZID=America/New_York:20260504T170000
DTSTAMP:20260425T213102
CREATED:20260422T132406Z
LAST-MODIFIED:20260422T134652Z
UID:10000415-1777885200-1777914000@vamfa.org
SUMMARY:MAHA Institute: Mental Health and Overmedicalization Summit
DESCRIPTION:Please join us for a one-day summit to address overmedicalization across the lifespan and advance ideas for near- and long-term reforms in mental health policy and practice. \n​​This event will bring together HHS leadership\, administrators\, clinicians\, researchers\, and grassroots reform advocates to create a collaborative\, unified network. The purpose of this day is to establish a shared understanding of the primary factors driving America’s mental health crisis and to identify clear\, winnable reform goals for the months ahead.
URL:https://vamfa.org/event/maha-institute-mental-health-and-overmedicalization-summit/
LOCATION:Washington\, DC
CATEGORIES:Conference
ATTACH;FMTTYPE=image/avif:https://vamfa.org/wp-content/uploads/2026/04/46fc2aac-ab91-4046-a893-643ce1c88db5.avif
END:VEVENT
BEGIN:VEVENT
DTSTART;VALUE=DATE:20260529
DTEND;VALUE=DATE:20260601
DTSTAMP:20260425T213102
CREATED:20260309T141709Z
LAST-MODIFIED:20260309T141758Z
UID:10000405-1780012800-1780271999@vamfa.org
SUMMARY:World Council for Health Creating New Health Systems\, A Better Way for the USA
DESCRIPTION:This national event brings together many internationally-renowned\, expert speakers from the worlds of health freedom such as medicine – both allopathic and natural – science\, law\, entrepreneurs\, policy experts and public officials.
URL:https://vamfa.org/event/world-council-for-health-creating-new-health-systems-a-better-way-for-the-usa/
LOCATION:Crowne Plaza\, Warwick\, Rhode Island
CATEGORIES:Conference
ATTACH;FMTTYPE=image/webp:https://vamfa.org/wp-content/uploads/2026/03/Asset-41@4x-1024x302-1.webp
END:VEVENT
BEGIN:VEVENT
DTSTART;VALUE=DATE:20260828
DTEND;VALUE=DATE:20260830
DTSTAMP:20260425T213102
CREATED:20260217T141404Z
LAST-MODIFIED:20260217T141404Z
UID:10000402-1787875200-1788047999@vamfa.org
SUMMARY:2026 Brownstone Institute Polyface Retreat
DESCRIPTION:Brownstone Institute’s second retreat at Polyface Farms offers loyal Brownstone readers a chance to join us in an exciting opportunity to learn from the best minds on the subjects of health freedom\, educational freedom\, freedom from censorship\, and more.
URL:https://vamfa.org/event/2026-brownstone-institute-polyface-retreat/
LOCATION:Polyface Farm\, Swoope\, Virginia
CATEGORIES:Conference
ATTACH;FMTTYPE=image/avif:https://vamfa.org/wp-content/uploads/2026/02/polyface-2026-featured.avif
ORGANIZER;CN="Virginia Medical Freedom Alliance":MAILTO:team@vamfa.org
END:VEVENT
BEGIN:VEVENT
DTSTART;VALUE=DATE:20260911
DTEND;VALUE=DATE:20260913
DTSTAMP:20260425T213102
CREATED:20260326T130643Z
LAST-MODIFIED:20260326T130643Z
UID:10000411-1789084800-1789257599@vamfa.org
SUMMARY:Virginia Medical Freedom Alliance Annual Summit
DESCRIPTION:Details to be announced soon.
URL:https://vamfa.org/event/virginia-medical-freedom-alliance-annual-summit/
CATEGORIES:Conference
ORGANIZER;CN="Virginia Medical Freedom Alliance":MAILTO:team@vamfa.org
END:VEVENT
BEGIN:VEVENT
DTSTART;VALUE=DATE:20261016
DTEND;VALUE=DATE:20261019
DTSTAMP:20260425T213102
CREATED:20260216T160252Z
LAST-MODIFIED:20260216T160252Z
UID:10000401-1792108800-1792367999@vamfa.org
SUMMARY:Weston A Price Wise Traditions Conference
DESCRIPTION:The conference that nourishes you in every way.
URL:https://vamfa.org/event/weston-a-price-wise-traditions-conference/
LOCATION:Omni Shoreham Hotel\, Washington\, DC
CATEGORIES:Conference
END:VEVENT
BEGIN:VEVENT
DTSTART;TZID=America/New_York:20261106T080000
DTEND;TZID=America/New_York:20261107T170000
DTSTAMP:20260425T213102
CREATED:20260407T132531Z
LAST-MODIFIED:20260407T133504Z
UID:10000412-1793952000-1794070800@vamfa.org
SUMMARY:Brownstone Institute 6th Annual Conference
DESCRIPTION:Save the Dates!\nFriday and Saturday\, November 6 – 7\, 2026\nChattanooga\, TN
URL:https://vamfa.org/event/brownstone-institute-6th-annual-conference/
LOCATION:Chattanooga\, TN\, Chattanooga\, Tennessee
CATEGORIES:Conference
ATTACH;FMTTYPE=image/png:https://vamfa.org/wp-content/uploads/2026/04/Brownstone-Institute-6th-Annual-Conference.png
END:VEVENT
END:VCALENDAR