BEGIN:VCALENDAR
VERSION:2.0
PRODID:-//Virginia Medical Freedom Alliance - ECPv6.15.20//NONSGML v1.0//EN
CALSCALE:GREGORIAN
METHOD:PUBLISH
X-ORIGINAL-URL:https://vamfa.org
X-WR-CALDESC:Events for Virginia Medical Freedom Alliance
REFRESH-INTERVAL;VALUE=DURATION:PT1H
X-Robots-Tag:noindex
X-PUBLISHED-TTL:PT1H
BEGIN:VTIMEZONE
TZID:America/New_York
BEGIN:DAYLIGHT
TZOFFSETFROM:-0500
TZOFFSETTO:-0400
TZNAME:EDT
DTSTART:20220313T070000
END:DAYLIGHT
BEGIN:STANDARD
TZOFFSETFROM:-0400
TZOFFSETTO:-0500
TZNAME:EST
DTSTART:20221106T060000
END:STANDARD
BEGIN:DAYLIGHT
TZOFFSETFROM:-0500
TZOFFSETTO:-0400
TZNAME:EDT
DTSTART:20230312T070000
END:DAYLIGHT
BEGIN:STANDARD
TZOFFSETFROM:-0400
TZOFFSETTO:-0500
TZNAME:EST
DTSTART:20231105T060000
END:STANDARD
BEGIN:DAYLIGHT
TZOFFSETFROM:-0500
TZOFFSETTO:-0400
TZNAME:EDT
DTSTART:20240310T070000
END:DAYLIGHT
BEGIN:STANDARD
TZOFFSETFROM:-0400
TZOFFSETTO:-0500
TZNAME:EST
DTSTART:20241103T060000
END:STANDARD
END:VTIMEZONE
BEGIN:VEVENT
DTSTART;TZID=America/New_York:20230116T160000
DTEND;TZID=America/New_York:20230116T170000
DTSTAMP:20260420T195121
CREATED:20230116T053934Z
LAST-MODIFIED:20230116T053938Z
UID:10000008-1673884800-1673888400@vamfa.org
SUMMARY:Lobby Day 2023 - Stop the Shots Virginia
DESCRIPTION:The Virginia Medical Freedom Alliance Announces \nLobby Day 2023\nStop the Shots Virginia\nClick here: https://rumble.com/v25cunp-lobby-day-2023-live-stream.html \nMonday\, January 16\, 2023 at 4 pm \nThe Bell Tower\n101 N. 9th Street\nCapitol Square\nRichmond\, VA \nJoin us as we \nMake Freedom and Liberty Ring!\nGuest Speakers\nRobert Malone\, MD \nSheila M. Furey\, MD \nSenator Amanda Chase \nKaren Reardon (No Mandates VA) \nVaccine Injured Families \nMatt Strickland \nOther speakers pending \nWe the people of Virginia stand for Freedom. Our basic right to bodily autonomy is being stripped from us by  Virginia Law and policy that places our medical freedom in hands of the people who failed us during the pandemic. We will not let the government or businesses dictate shots for any person in the Commonwealth. \nWe are asking every man\, woman and child to join us as we make history in Richmond by saying NO to any toxic shot. NO Shots for our children and NO Shots Mandated by any business or employer in the Commonwealth. \nGovernor Youngkin says you have a choice but Virginia Law and Code leave that choice in the hands of one man\, the State Health Commissioner\, and the 15 members of the State Board of Health. Do you trust unelected bureaucrats? \nLet’s surround the Capitol with our message – No Toxic Shots! \nJoin us as we Make Freedom Ring! \n  \nWe encourage everyone to arrive early to meet with your delegate and senator.  \nPlease call their offices now to schedule a meeting in person with them\, beginning at 8 am\, at the Pocahontas Building\, 900 E. Main St.\, Richmond\, VA. \nWe want to leave everyone in the General Assembly our message\, No Toxic Shots! \nWe must strip the unelected Commissioner of Health ​and the Board of Health of their power to dictate shots for our children and prevent private businesses from mandating Toxic Shots. \nDownload a letter that you can sign or personalize and leave with your Delegate and Senator. \n  \nContinue to call and send letters to the Governor\, Lt. Governor\, Attorney General\, Secretary of Health\, and Commissioner of Health! \nDownload a LIST and SUMMARIES of PRO-medical freedom BILLS \nFind my representative: https://whosmy.virginiageneralassembly.gov/ \nContact my Senator: https://apps.senate.virginia.gov/Senator/index.php \nContact my Delegate: https://virginiageneralassembly.gov/house/members/members.php \nPrepare for your visit with your representatives:   Talking Points Letter      Tips for Meeting with your Legislator \n  \nCall and send letters to: \nGovernor Youngkin 804-786-2211 / email: Virginia.gov (the Governor is the elected official directly responsible for appointing the Secy of Health\, Health Commissioner and the members of the Board of Health) \nLt. Governor Sears 804-786-2078 / email: https://www.ltgov.virginia.gov/ \nAttorney General Miyares 804-786-2071 / email: https://oag.state.va.us/contact-oag \nSecretary of Health and Human Resources John Littel 804- 786-7765 / email: HealthAndHumanResources@governor.virginia.gov \nCommission of Health Colin Greene\, MD 804-864-7009 / email: healthcommissioner@vdh.virginia.gov (head of VA Dept of Health and executive officer of VA Board of Health) \n  \nWe need you\, your family and friends to join us to send a loud and clear message to our elected officials that We will not comply with the Toxic Shot! \n\nRSVP below; please include: Name\, Address\, Email\, Phone\, VA Delegate District\, VA Senate District\, how many people are coming with you.\nPrint posters to carry. Click to view and download:  Give Me Liberty  Not About Freedom   STOP Toxic Shots   No Mandates   Call the Shots   Vaccine Injury\nVisit your senator and delegate.\nSend a message to the Executive Branch officials listed above.\nJoin the group as we wrap the Capitol Square with our message. Map of Capitol Grounds\nParking\, No-Parking Zones\, Road Closures:https://vamfa.org/wp-content/uploads/2023/01/Lobby-Day-Capitol-area-road-closures-no-parking-zones.pdf\n\nhttps://www.bestparking.com/richmond-parking/destinations/virginia-state-capitol-parking/?daily=1
URL:https://vamfa.org/event/january-16th-general-assembly-rally-2-2/
LOCATION:The Bell Tower at Capitol Square\, 101 N. 9th Street\, Richmond\, VA\, 23218\, United States
CATEGORIES:Rally
ATTACH;FMTTYPE=image/jpeg:https://vamfa.org/wp-content/uploads/2022/11/20200120_110943-scaled-e1673653744227.jpg
ORGANIZER;CN="Virginia Medical Freedom Alliance":MAILTO:team@vamfa.org
END:VEVENT
END:VCALENDAR