BEGIN:VCALENDAR
VERSION:2.0
PRODID:-//Virginia Medical Freedom Alliance - ECPv6.15.20//NONSGML v1.0//EN
CALSCALE:GREGORIAN
METHOD:PUBLISH
X-WR-CALNAME:Virginia Medical Freedom Alliance
X-ORIGINAL-URL:https://vamfa.org
X-WR-CALDESC:Events for Virginia Medical Freedom Alliance
REFRESH-INTERVAL;VALUE=DURATION:PT1H
X-Robots-Tag:noindex
X-PUBLISHED-TTL:PT1H
BEGIN:VTIMEZONE
TZID:America/New_York
BEGIN:DAYLIGHT
TZOFFSETFROM:-0500
TZOFFSETTO:-0400
TZNAME:EDT
DTSTART:20250309T070000
END:DAYLIGHT
BEGIN:STANDARD
TZOFFSETFROM:-0400
TZOFFSETTO:-0500
TZNAME:EST
DTSTART:20251102T060000
END:STANDARD
BEGIN:DAYLIGHT
TZOFFSETFROM:-0500
TZOFFSETTO:-0400
TZNAME:EDT
DTSTART:20260308T070000
END:DAYLIGHT
BEGIN:STANDARD
TZOFFSETFROM:-0400
TZOFFSETTO:-0500
TZNAME:EST
DTSTART:20261101T060000
END:STANDARD
BEGIN:DAYLIGHT
TZOFFSETFROM:-0500
TZOFFSETTO:-0400
TZNAME:EDT
DTSTART:20270314T070000
END:DAYLIGHT
BEGIN:STANDARD
TZOFFSETFROM:-0400
TZOFFSETTO:-0500
TZNAME:EST
DTSTART:20271107T060000
END:STANDARD
END:VTIMEZONE
BEGIN:VEVENT
DTSTART;TZID=America/New_York:20260422T100000
DTEND;TZID=America/New_York:20260422T170000
DTSTAMP:20260422T012220
CREATED:20260326T130316Z
LAST-MODIFIED:20260326T130316Z
UID:10000409-1776852000-1776877200@vamfa.org
SUMMARY:Virginia March for Life 2026
DESCRIPTION:
URL:https://vamfa.org/event/virginia-march-for-life-2026/
LOCATION:Richmond Capitol Square Bell Tower\, 101 N. 9th St\, Richmond\, Virginia
CATEGORIES:Rally
END:VEVENT
BEGIN:VEVENT
DTSTART;TZID=America/New_York:20260422T150000
DTEND;TZID=America/New_York:20260422T170000
DTSTAMP:20260422T012220
CREATED:20260326T130510Z
LAST-MODIFIED:20260326T130510Z
UID:10000410-1776870000-1776877200@vamfa.org
SUMMARY:Virginia Beyond Abortion: Building Pro-life Communities
DESCRIPTION:More information to follow.
URL:https://vamfa.org/event/virginia-beyond-abortion-building-pro-life-communities/
LOCATION:Virginia Christian Alliance\, 8659 Staples Mill Rd\, Henrico\, Virginia
CATEGORIES:Forum
END:VEVENT
BEGIN:VEVENT
DTSTART;TZID=America/New_York:20260422T150000
DTEND;TZID=America/New_York:20260422T170000
DTSTAMP:20260422T012220
CREATED:20260410T185548Z
LAST-MODIFIED:20260410T185548Z
UID:10000413-1776870000-1776877200@vamfa.org
SUMMARY:Preborn Justice March for Life Workshop
DESCRIPTION:You must pre-register.
URL:https://vamfa.org/event/preborn-justice-march-for-life-workshop/
LOCATION:Virginia Christian Alliance\, 8659 Staples Mill Rd\, Henrico\, Virginia
CATEGORIES:Presentation
END:VEVENT
END:VCALENDAR